BEGIN:VCALENDAR
VERSION:2.0
PRODID:-//Moustache Production - ECPv6.15.20//NONSGML v1.0//EN
CALSCALE:GREGORIAN
METHOD:PUBLISH
X-WR-CALNAME:Moustache Production
X-ORIGINAL-URL:https://moustacheproduction.com
X-WR-CALDESC:Évènements pour Moustache Production
REFRESH-INTERVAL;VALUE=DURATION:PT1H
X-Robots-Tag:noindex
X-PUBLISHED-TTL:PT1H
BEGIN:VTIMEZONE
TZID:Europe/Paris
BEGIN:DAYLIGHT
TZOFFSETFROM:+0100
TZOFFSETTO:+0200
TZNAME:CEST
DTSTART:20200329T010000
END:DAYLIGHT
BEGIN:STANDARD
TZOFFSETFROM:+0200
TZOFFSETTO:+0100
TZNAME:CET
DTSTART:20201025T010000
END:STANDARD
BEGIN:DAYLIGHT
TZOFFSETFROM:+0100
TZOFFSETTO:+0200
TZNAME:CEST
DTSTART:20210328T010000
END:DAYLIGHT
BEGIN:STANDARD
TZOFFSETFROM:+0200
TZOFFSETTO:+0100
TZNAME:CET
DTSTART:20211031T010000
END:STANDARD
BEGIN:DAYLIGHT
TZOFFSETFROM:+0100
TZOFFSETTO:+0200
TZNAME:CEST
DTSTART:20220327T010000
END:DAYLIGHT
BEGIN:STANDARD
TZOFFSETFROM:+0200
TZOFFSETTO:+0100
TZNAME:CET
DTSTART:20221030T010000
END:STANDARD
BEGIN:DAYLIGHT
TZOFFSETFROM:+0100
TZOFFSETTO:+0200
TZNAME:CEST
DTSTART:20230326T010000
END:DAYLIGHT
BEGIN:STANDARD
TZOFFSETFROM:+0200
TZOFFSETTO:+0100
TZNAME:CET
DTSTART:20231029T010000
END:STANDARD
END:VTIMEZONE
BEGIN:VEVENT
DTSTART;VALUE=DATE:20220426
DTEND;VALUE=DATE:20220427
DTSTAMP:20260423T132811
CREATED:20220420T093633Z
LAST-MODIFIED:20220420T093633Z
UID:3243-1650931200-1651017599@moustacheproduction.com
SUMMARY:Tricot Combo en concert
DESCRIPTION:
URL:https://moustacheproduction.com/event/tricot-combo-en-concert-77/
LOCATION:Evénement Privé
CATEGORIES:Tricot Combo
END:VEVENT
BEGIN:VEVENT
DTSTART;VALUE=DATE:20220423
DTEND;VALUE=DATE:20220424
DTSTAMP:20260423T132811
CREATED:20211112T144909Z
LAST-MODIFIED:20211112T144909Z
UID:3169-1650672000-1650758399@moustacheproduction.com
SUMMARY:Tricot combo en concert
DESCRIPTION:
URL:https://moustacheproduction.com/event/tricot-combo-en-concert-58/
LOCATION:Saint Amand sur sèvre
CATEGORIES:Tricot Combo
END:VEVENT
BEGIN:VEVENT
DTSTART;TZID=Europe/Paris:20220422T200000
DTEND;TZID=Europe/Paris:20220422T220000
DTSTAMP:20260423T132811
CREATED:20220420T093225Z
LAST-MODIFIED:20220420T093225Z
UID:3237-1650657600-1650664800@moustacheproduction.com
SUMMARY:Tricot Combo en concert
DESCRIPTION:
URL:https://moustacheproduction.com/event/tricot-combo-en-concert-75/
LOCATION:Bar Le France\, Pouzauges
CATEGORIES:Tricot Combo
END:VEVENT
BEGIN:VEVENT
DTSTART;VALUE=DATE:20220320
DTEND;VALUE=DATE:20220321
DTSTAMP:20260423T132811
CREATED:20220216T165549Z
LAST-MODIFIED:20220216T165549Z
UID:3198-1647734400-1647820799@moustacheproduction.com
SUMMARY:Tricot Combo en concert
DESCRIPTION:
URL:https://moustacheproduction.com/event/tricot-combo-en-concert-66/
LOCATION:La Conserverie\, Saint Gilles Croix de Vie
CATEGORIES:Tricot Combo
END:VEVENT
BEGIN:VEVENT
DTSTART;VALUE=DATE:20220318
DTEND;VALUE=DATE:20220319
DTSTAMP:20260423T132811
CREATED:20211112T144729Z
LAST-MODIFIED:20220216T165145Z
UID:3166-1647561600-1647647999@moustacheproduction.com
SUMMARY:Tricot Combo en concert
DESCRIPTION:
URL:https://moustacheproduction.com/event/tricot-combo-en-concert-57/
LOCATION:Festival Chantons sous les pins\, Pontonx sur l'Adour
CATEGORIES:Tricot Combo
END:VEVENT
BEGIN:VEVENT
DTSTART;TZID=Europe/Paris:20220311T080000
DTEND;TZID=Europe/Paris:20220311T170000
DTSTAMP:20260423T132811
CREATED:20211115T085248Z
LAST-MODIFIED:20211115T085248Z
UID:3185-1646985600-1647018000@moustacheproduction.com
SUMMARY:Tricot Combo en concert
DESCRIPTION:
URL:https://moustacheproduction.com/event/tricot-combo-en-concert-62/
LOCATION:Bar La treve\, Saint andré treize voies
CATEGORIES:Tricot Combo
END:VEVENT
BEGIN:VEVENT
DTSTART;VALUE=DATE:20220306
DTEND;VALUE=DATE:20220307
DTSTAMP:20260423T132811
CREATED:20211112T144422Z
LAST-MODIFIED:20211112T144422Z
UID:3163-1646524800-1646611199@moustacheproduction.com
SUMMARY:Tricot Combo en concert
DESCRIPTION:
URL:https://moustacheproduction.com/event/tricot-combo-en-concert-56/
LOCATION:Le Piment Familial\, Mortagne-sur-sèvre
CATEGORIES:Tricot Combo
END:VEVENT
BEGIN:VEVENT
DTSTART;VALUE=DATE:20220304
DTEND;VALUE=DATE:20220305
DTSTAMP:20260423T132811
CREATED:20220216T164922Z
LAST-MODIFIED:20220216T164922Z
UID:3195-1646352000-1646438399@moustacheproduction.com
SUMMARY:Tricot Combo en concert
DESCRIPTION:
URL:https://moustacheproduction.com/event/tricot-combo-en-concert-65/
LOCATION:Festival « Free sons divers »\, Les Herbiers
CATEGORIES:Tricot Combo
END:VEVENT
BEGIN:VEVENT
DTSTART;VALUE=DATE:20220218
DTEND;VALUE=DATE:20220219
DTSTAMP:20260423T132811
CREATED:20220216T164633Z
LAST-MODIFIED:20220216T164633Z
UID:3193-1645142400-1645228799@moustacheproduction.com
SUMMARY:Tricot Combo en concert
DESCRIPTION:
URL:https://moustacheproduction.com/event/tricot-combo-en-concert-64/
LOCATION:Evénement Privé
CATEGORIES:Tricot Combo
END:VEVENT
BEGIN:VEVENT
DTSTART;VALUE=DATE:20211212
DTEND;VALUE=DATE:20211213
DTSTAMP:20260423T132811
CREATED:20211112T143811Z
LAST-MODIFIED:20211112T143811Z
UID:3157-1639267200-1639353599@moustacheproduction.com
SUMMARY:Tricot Combo en concert
DESCRIPTION:
URL:https://moustacheproduction.com/event/tricot-combo-en-concert-55/
LOCATION:Marché de Noel de Maillezais
CATEGORIES:Tricot Combo
END:VEVENT
BEGIN:VEVENT
DTSTART;VALUE=DATE:20211211
DTEND;VALUE=DATE:20211212
DTSTAMP:20260423T132811
CREATED:20211112T143734Z
LAST-MODIFIED:20211112T143825Z
UID:3155-1639180800-1639267199@moustacheproduction.com
SUMMARY:Tricot Combo en concert
DESCRIPTION:
URL:https://moustacheproduction.com/event/tricot-combo-3/
LOCATION:Marché de Noel de Maillezais
CATEGORIES:Tricot Combo
END:VEVENT
BEGIN:VEVENT
DTSTART;VALUE=DATE:20211210
DTEND;VALUE=DATE:20211211
DTSTAMP:20260423T132811
CREATED:20211112T143114Z
LAST-MODIFIED:20211112T143114Z
UID:3146-1639094400-1639180799@moustacheproduction.com
SUMMARY:Tricot Combo en concert
DESCRIPTION:
URL:https://moustacheproduction.com/event/tricot-combo-en-concert-51/
LOCATION:Albi
CATEGORIES:Tricot Combo
END:VEVENT
BEGIN:VEVENT
DTSTART;VALUE=DATE:20211205
DTEND;VALUE=DATE:20211206
DTSTAMP:20260423T132811
CREATED:20211112T143650Z
LAST-MODIFIED:20211112T143650Z
UID:3153-1638662400-1638748799@moustacheproduction.com
SUMMARY:Tricot Combo en concert
DESCRIPTION:
URL:https://moustacheproduction.com/event/tricot-combo-en-concert-54/
LOCATION:Marché de Noel de Maillezais
CATEGORIES:Tricot Combo
END:VEVENT
BEGIN:VEVENT
DTSTART;VALUE=DATE:20211204
DTEND;VALUE=DATE:20211205
DTSTAMP:20260423T132811
CREATED:20211112T143602Z
LAST-MODIFIED:20211112T143602Z
UID:3151-1638576000-1638662399@moustacheproduction.com
SUMMARY:Tricot Combo en concert
DESCRIPTION:
URL:https://moustacheproduction.com/event/tricot-combo-en-concert-53/
LOCATION:Marché de Noel de Maillezais
CATEGORIES:Tricot Combo
END:VEVENT
BEGIN:VEVENT
DTSTART;VALUE=DATE:20211203
DTEND;VALUE=DATE:20211204
DTSTAMP:20260423T132811
CREATED:20211112T143511Z
LAST-MODIFIED:20211112T143522Z
UID:3148-1638489600-1638575999@moustacheproduction.com
SUMMARY:Tricot Combo en concert
DESCRIPTION:
URL:https://moustacheproduction.com/event/tricot-combo-en-concert-52/
LOCATION:Marché de Noel de Maillezais
CATEGORIES:Tricot Combo
END:VEVENT
BEGIN:VEVENT
DTSTART;VALUE=DATE:20211127
DTEND;VALUE=DATE:20211128
DTSTAMP:20260423T132811
CREATED:20211112T142902Z
LAST-MODIFIED:20211112T142902Z
UID:3142-1637971200-1638057599@moustacheproduction.com
SUMMARY:Tricot Combo sort des albums
DESCRIPTION:
URL:https://moustacheproduction.com/event/tricot-combo-sort-des-albums/
LOCATION:Les Herbiers
CATEGORIES:Tricot Combo
END:VEVENT
BEGIN:VEVENT
DTSTART;TZID=Europe/Paris:20211120T080000
DTEND;TZID=Europe/Paris:20211120T170000
DTSTAMP:20260423T132811
CREATED:20210112T143142Z
LAST-MODIFIED:20211112T143221Z
UID:2908-1637395200-1637427600@moustacheproduction.com
SUMMARY:Tricot Combo en Concert
DESCRIPTION:
URL:https://moustacheproduction.com/event/tricot-combo-en-concert-18/
LOCATION:Saint-Père-en-retz
CATEGORIES:Tricot Combo
END:VEVENT
BEGIN:VEVENT
DTSTART;VALUE=DATE:20211106
DTEND;VALUE=DATE:20211107
DTSTAMP:20260423T132811
CREATED:20210629T133332Z
LAST-MODIFIED:20210629T133332Z
UID:3118-1636156800-1636243199@moustacheproduction.com
SUMMARY:Tricot Combo en concert
DESCRIPTION:
URL:https://moustacheproduction.com/event/tricot-combo-en-concert-48/
LOCATION:Evénement Privé
CATEGORIES:Tricot Combo
END:VEVENT
BEGIN:VEVENT
DTSTART;VALUE=DATE:20211009
DTEND;VALUE=DATE:20211010
DTSTAMP:20260423T132811
CREATED:20210818T134456Z
LAST-MODIFIED:20210818T134456Z
UID:3130-1633737600-1633823999@moustacheproduction.com
SUMMARY:Tricot Combo en concert
DESCRIPTION:
URL:https://moustacheproduction.com/event/tricot-combo-en-concert-49/
LOCATION:Festival PayTaTong\, La Ferrière
CATEGORIES:Tricot Combo
END:VEVENT
BEGIN:VEVENT
DTSTART;VALUE=DATE:20210926
DTEND;VALUE=DATE:20210927
DTSTAMP:20260423T132811
CREATED:20210629T133227Z
LAST-MODIFIED:20210629T133227Z
UID:3116-1632614400-1632700799@moustacheproduction.com
SUMMARY:Tricot Combo en concert
DESCRIPTION:
URL:https://moustacheproduction.com/event/tricot-combo-en-concert-47/
LOCATION:Saint Cirq Lapopie
CATEGORIES:Tricot Combo
END:VEVENT
BEGIN:VEVENT
DTSTART;TZID=Europe/Paris:20210911T080000
DTEND;TZID=Europe/Paris:20210911T170000
DTSTAMP:20260423T132811
CREATED:20210622T134840Z
LAST-MODIFIED:20210622T134840Z
UID:3111-1631347200-1631379600@moustacheproduction.com
SUMMARY:Tricot Combo
DESCRIPTION:
URL:https://moustacheproduction.com/event/tricot-combo-2/
LOCATION:Festival « scenes aux champs »\, Saubrigues
CATEGORIES:Tricot Combo
END:VEVENT
BEGIN:VEVENT
DTSTART;VALUE=DATE:20210910
DTEND;VALUE=DATE:20210911
DTSTAMP:20260423T132811
CREATED:20210622T134605Z
LAST-MODIFIED:20210622T134701Z
UID:3109-1631232000-1631318399@moustacheproduction.com
SUMMARY:Tricot Combo en concert
DESCRIPTION:
URL:https://moustacheproduction.com/event/tricot-combo-en-concert-37/
LOCATION:Festival Voyage en guitare\, Chinon
CATEGORIES:Tricot Combo
END:VEVENT
BEGIN:VEVENT
DTSTART;VALUE=DATE:20210905
DTEND;VALUE=DATE:20210906
DTSTAMP:20260423T132811
CREATED:20210330T083026Z
LAST-MODIFIED:20210330T083026Z
UID:2959-1630800000-1630886399@moustacheproduction.com
SUMMARY:Tricot Combo en concert
DESCRIPTION:
URL:https://moustacheproduction.com/event/tricot-combo-en-concert-29/
LOCATION:Festival bouge ton bocage\, La Verrie
CATEGORIES:Tricot Combo
END:VEVENT
BEGIN:VEVENT
DTSTART;VALUE=DATE:20210904
DTEND;VALUE=DATE:20210905
DTSTAMP:20260423T132811
CREATED:20210112T142749Z
LAST-MODIFIED:20210112T143241Z
UID:2903-1630713600-1630799999@moustacheproduction.com
SUMMARY:Tricot Combo en concert
DESCRIPTION:
URL:https://moustacheproduction.com/event/tricot-combo-en-concert-17/
LOCATION:Evénement Privé
CATEGORIES:Tricot Combo
END:VEVENT
BEGIN:VEVENT
DTSTART;VALUE=DATE:20210829
DTEND;VALUE=DATE:20210830
DTSTAMP:20260423T132811
CREATED:20210629T133024Z
LAST-MODIFIED:20210629T133024Z
UID:3114-1630195200-1630281599@moustacheproduction.com
SUMMARY:Tricot Combo en concert
DESCRIPTION:
URL:https://moustacheproduction.com/event/tricot-combo-en-concert-46/
LOCATION:Evénement Privé
CATEGORIES:Tricot Combo
END:VEVENT
BEGIN:VEVENT
DTSTART;VALUE=DATE:20210828
DTEND;VALUE=DATE:20210829
DTSTAMP:20260423T132811
CREATED:20210330T082822Z
LAST-MODIFIED:20210330T082822Z
UID:2955-1630108800-1630195199@moustacheproduction.com
SUMMARY:Tricot Combo en concert
DESCRIPTION:
URL:https://moustacheproduction.com/event/tricot-combo-en-concert-28/
LOCATION:Nesmy\, Nesmy
CATEGORIES:Tricot Combo
END:VEVENT
BEGIN:VEVENT
DTSTART;VALUE=DATE:20210822
DTEND;VALUE=DATE:20210823
DTSTAMP:20260423T132811
CREATED:20210330T082558Z
LAST-MODIFIED:20210526T140118Z
UID:2952-1629590400-1629676799@moustacheproduction.com
SUMMARY:Tricot Combo en concert
DESCRIPTION:
URL:https://moustacheproduction.com/event/tricot-combo-en-concert-27/
LOCATION:O p’tit guinguette\, Vix
CATEGORIES:Tricot Combo
END:VEVENT
BEGIN:VEVENT
DTSTART;VALUE=DATE:20210815
DTEND;VALUE=DATE:20210816
DTSTAMP:20260423T132811
CREATED:20210526T135703Z
LAST-MODIFIED:20210526T135703Z
UID:3026-1628985600-1629071999@moustacheproduction.com
SUMMARY:Tricot Combo en concert
DESCRIPTION:
URL:https://moustacheproduction.com/event/tricot-combo-en-concert-36/
LOCATION:Les apéros de Blesle\, Blesle
CATEGORIES:Tricot Combo
END:VEVENT
BEGIN:VEVENT
DTSTART;VALUE=DATE:20210813
DTEND;VALUE=DATE:20210814
DTSTAMP:20260423T132811
CREATED:20210622T134232Z
LAST-MODIFIED:20210622T134232Z
UID:3105-1628812800-1628899199@moustacheproduction.com
SUMMARY:Tricot Combo en concert
DESCRIPTION:
URL:https://moustacheproduction.com/event/tricot-combo-en-concert-45/
LOCATION:Les Sables D’Olonne
CATEGORIES:Tricot Combo
END:VEVENT
BEGIN:VEVENT
DTSTART;VALUE=DATE:20210812
DTEND;VALUE=DATE:20210813
DTSTAMP:20260423T132811
CREATED:20210330T082404Z
LAST-MODIFIED:20210330T082404Z
UID:2949-1628726400-1628812799@moustacheproduction.com
SUMMARY:Tricot Combo en concert
DESCRIPTION:
URL:https://moustacheproduction.com/event/tricot-combo-en-concert-26/
LOCATION:Les concerts de l’oiselière\, Chauché
CATEGORIES:Tricot Combo
END:VEVENT
END:VCALENDAR